BEGIN:VCALENDAR
VERSION:2.0
PRODID:-//Altwirt Piding - ECPv6.15.20//NONSGML v1.0//EN
CALSCALE:GREGORIAN
METHOD:PUBLISH
X-WR-CALNAME:Altwirt Piding
X-ORIGINAL-URL:https://altwirt.de
X-WR-CALDESC:Veranstaltungen für Altwirt Piding
REFRESH-INTERVAL;VALUE=DURATION:PT1H
X-Robots-Tag:noindex
X-PUBLISHED-TTL:PT1H
BEGIN:VTIMEZONE
TZID:UTC
BEGIN:STANDARD
TZOFFSETFROM:+0000
TZOFFSETTO:+0000
TZNAME:UTC
DTSTART:20230101T000000
END:STANDARD
END:VTIMEZONE
BEGIN:VEVENT
DTSTART;TZID=UTC:20241201T170000
DTEND;TZID=UTC:20241201T200000
DTSTAMP:20260421T151434
CREATED:20240817T225123Z
LAST-MODIFIED:20240817T225123Z
UID:1104-1733072400-1733083200@altwirt.de
SUMMARY:Musikalischer Dämmerschoppen mit der Goldtropfmusi
DESCRIPTION:Am 01.12.2024 spielt die Goldtropfmusi im Rahmen der musikalischen Dämmerschoppen im Altwirt Piding. Eintritt ist frei! Wir freuen uns auf Euer Kommen!
URL:https://altwirt.de/veranstaltung/musikalischer-daemmerschoppen-mit-der-goldtropfmusi-2024-12-01/
LOCATION:Altwirt Piding\, Berchtesgadener Straße 6\, Piding\, Bayern\, 83451\, Deutschland
CATEGORIES:Musikalischer Dämmerschoppen
ATTACH;FMTTYPE=image/jpeg:https://altwirt.de/wp-content/uploads/Goldtropfmusi-scaled.jpg
END:VEVENT
BEGIN:VEVENT
DTSTART;TZID=UTC:20241208T170000
DTEND;TZID=UTC:20241208T200000
DTSTAMP:20260421T151434
CREATED:20241121T221953Z
LAST-MODIFIED:20241121T222037Z
UID:1114-1733677200-1733688000@altwirt.de
SUMMARY:Musikalischer Dämmerschoppen mit Ziach & Harfe
DESCRIPTION:Am 08.12.2024 spielen die jungen Musikantinnen Anna & Magdalena mit Ziach und Harfe im Rahmen der musikalischen Dämmerschoppen im Altwirt Piding. Eintritt ist frei! Wir freuen uns auf Euer Kommen!
URL:https://altwirt.de/veranstaltung/musikalischer-daemmerschoppen-mit-ziach-harfe-2024-12-08/
LOCATION:Altwirt Piding\, Berchtesgadener Straße 6\, Piding\, Bayern\, 83451\, Deutschland
CATEGORIES:Musikalischer Dämmerschoppen
ATTACH;FMTTYPE=image/jpeg:https://altwirt.de/wp-content/uploads/Anna-und-Magdalena.jpg
END:VEVENT
BEGIN:VEVENT
DTSTART;TZID=UTC:20241215T170000
DTEND;TZID=UTC:20241215T200000
DTSTAMP:20260421T151434
CREATED:20240817T225356Z
LAST-MODIFIED:20240817T225356Z
UID:1107-1734282000-1734292800@altwirt.de
SUMMARY:Musikalischer Dämmerschoppen mit der Veteranermusi
DESCRIPTION:Am 15.12.2024 spielt die Veteranermusi im Rahmen der musikalischen Dämmerschoppen im Altwirt Piding. Eintritt ist frei! Wir freuen uns auf Euer Kommen!
URL:https://altwirt.de/veranstaltung/musikalischer-daemmerschoppen-mit-der-veteranermusi-2024-12-15/
LOCATION:Altwirt Piding\, Berchtesgadener Straße 6\, Piding\, Bayern\, 83451\, Deutschland
CATEGORIES:Musikalischer Dämmerschoppen
ATTACH;FMTTYPE=image/jpeg:https://altwirt.de/wp-content/uploads/Veteranermusi-3-scaled.jpg
END:VEVENT
BEGIN:VEVENT
DTSTART;TZID=UTC:20241222T170000
DTEND;TZID=UTC:20241222T200000
DTSTAMP:20260421T151434
CREATED:20240817T225544Z
LAST-MODIFIED:20240817T225544Z
UID:1109-1734886800-1734897600@altwirt.de
SUMMARY:Musikalischer Dämmerschoppen mit Peter Streibl und Freunden
DESCRIPTION:Am 22.12.2024 spielen Peter Streibl und Freunde im Rahmen der musikalischen Dämmerschoppen im Altwirt Piding. Eintritt ist frei! Wir freuen uns auf Euer Kommen!
URL:https://altwirt.de/veranstaltung/musikalischer-daemmerschoppen-mit-peter-streibl-und-freunden-2024-12-22/
LOCATION:Altwirt Piding\, Berchtesgadener Straße 6\, Piding\, Bayern\, 83451\, Deutschland
CATEGORIES:Musikalischer Dämmerschoppen
ATTACH;FMTTYPE=image/jpeg:https://altwirt.de/wp-content/uploads/AAA_7673-1-scaled.jpg
END:VEVENT
BEGIN:VEVENT
DTSTART;TZID=UTC:20241229T170000
DTEND;TZID=UTC:20241229T200000
DTSTAMP:20260421T151434
CREATED:20240817T225652Z
LAST-MODIFIED:20240817T225652Z
UID:1111-1735491600-1735502400@altwirt.de
SUMMARY:Musikalischer Dämmerschoppen mit der Veteranermusi
DESCRIPTION:Am 29.12.2024 spielt die Veteranermusi im Rahmen der musikalischen Dämmerschoppen im Altwirt Piding. Eintritt ist frei! Wir freuen uns auf Euer Kommen!
URL:https://altwirt.de/veranstaltung/musikalischer-daemmerschoppen-mit-der-veteranermusi-2024-12-29/
LOCATION:Altwirt Piding\, Berchtesgadener Straße 6\, Piding\, Bayern\, 83451\, Deutschland
CATEGORIES:Musikalischer Dämmerschoppen
ATTACH;FMTTYPE=image/jpeg:https://altwirt.de/wp-content/uploads/Veteranermusi-3-scaled.jpg
END:VEVENT
END:VCALENDAR