BEGIN:VCALENDAR
VERSION:2.0
PRODID:-//Altwirt Piding - ECPv6.15.20//NONSGML v1.0//EN
CALSCALE:GREGORIAN
METHOD:PUBLISH
X-WR-CALNAME:Altwirt Piding
X-ORIGINAL-URL:https://altwirt.de
X-WR-CALDESC:Veranstaltungen für Altwirt Piding
REFRESH-INTERVAL;VALUE=DURATION:PT1H
X-Robots-Tag:noindex
X-PUBLISHED-TTL:PT1H
BEGIN:VTIMEZONE
TZID:UTC
BEGIN:STANDARD
TZOFFSETFROM:+0000
TZOFFSETTO:+0000
TZNAME:UTC
DTSTART:20230101T000000
END:STANDARD
END:VTIMEZONE
BEGIN:VEVENT
DTSTART;TZID=UTC:20241006T170000
DTEND;TZID=UTC:20241006T200000
DTSTAMP:20260421T183240
CREATED:20240817T223906Z
LAST-MODIFIED:20240817T223906Z
UID:1093-1728234000-1728244800@altwirt.de
SUMMARY:Musikalischer Dämmerschoppen mit Se & I
DESCRIPTION:Am 06.10.2024 spielen Se & I im Rahmen der musikalischen Dämmerschoppen im Altwirt Piding. Eintritt ist frei! Wir freuen uns auf Euer Kommen!
URL:https://altwirt.de/veranstaltung/musikalischer-daemmerschoppen-mit-se-i-2024-10-06/
LOCATION:Altwirt Piding\, Berchtesgadener Straße 6\, Piding\, Bayern\, 83451\, Deutschland
CATEGORIES:Musikalischer Dämmerschoppen
ATTACH;FMTTYPE=image/jpeg:https://altwirt.de/wp-content/uploads/Se-und-I.jpg
END:VEVENT
BEGIN:VEVENT
DTSTART;TZID=UTC:20241013T170000
DTEND;TZID=UTC:20241013T200000
DTSTAMP:20260421T183240
CREATED:20240817T224030Z
LAST-MODIFIED:20240817T224030Z
UID:1096-1728838800-1728849600@altwirt.de
SUMMARY:Musikalischer Dämmerschoppen mit der Eineaussemusi
DESCRIPTION:Am 13.10.2024 spielt die Eineaussemusi im Rahmen der musikalischen Dämmerschoppen im Altwirt Piding. Eintritt ist frei! Wir freuen uns auf Euer Kommen!
URL:https://altwirt.de/veranstaltung/musikalischer-daemmerschoppen-mit-der-eineaussemusi-2024-10-13/
LOCATION:Altwirt Piding\, Berchtesgadener Straße 6\, Piding\, Bayern\, 83451\, Deutschland
CATEGORIES:Musikalischer Dämmerschoppen
ATTACH;FMTTYPE=image/jpeg:https://altwirt.de/wp-content/uploads/Eineaussemusi.jpg
END:VEVENT
BEGIN:VEVENT
DTSTART;TZID=UTC:20241020T170000
DTEND;TZID=UTC:20241020T200000
DTSTAMP:20260421T183240
CREATED:20240817T224423Z
LAST-MODIFIED:20240817T224423Z
UID:1098-1729443600-1729454400@altwirt.de
SUMMARY:Musikalischer Dämmerschoppen mit der Goldtropfmusi
DESCRIPTION:Am 20.10.2024 spielt die Goldtropfmusi im Rahmen der musikalischen Dämmerschoppen im Altwirt Piding. Eintritt ist frei! Wir freuen uns auf Euer Kommen!
URL:https://altwirt.de/veranstaltung/musikalischer-daemmerschoppen-mit-der-goldtropfmusi-2024-10-20/
LOCATION:Altwirt Piding\, Berchtesgadener Straße 6\, Piding\, Bayern\, 83451\, Deutschland
CATEGORIES:Musikalischer Dämmerschoppen
ATTACH;FMTTYPE=image/jpeg:https://altwirt.de/wp-content/uploads/Goldtropfmusi-scaled.jpg
END:VEVENT
BEGIN:VEVENT
DTSTART;TZID=UTC:20241027T170000
DTEND;TZID=UTC:20241027T200000
DTSTAMP:20260421T183240
CREATED:20240817T224835Z
LAST-MODIFIED:20240817T224835Z
UID:1100-1730048400-1730059200@altwirt.de
SUMMARY:Musikalischer Dämmerschoppen mit den Jungmusikanten
DESCRIPTION:Am 27.10.2024 spielen die Jungmusikanten im Rahmen der musikalischen Dämmerschoppen im Altwirt Piding. Eintritt ist frei! Wir freuen uns auf Euer Kommen!
URL:https://altwirt.de/veranstaltung/musikalischer-daemmerschoppen-mit-den-jungmusikanten-2024-10-27/
LOCATION:Altwirt Piding\, Berchtesgadener Straße 6\, Piding\, Bayern\, 83451\, Deutschland
CATEGORIES:Musikalischer Dämmerschoppen
ATTACH;FMTTYPE=image/jpeg:https://altwirt.de/wp-content/uploads/AAA_7673-1-scaled.jpg
END:VEVENT
END:VCALENDAR