BEGIN:VCALENDAR
VERSION:2.0
PRODID:-//Altwirt Piding - ECPv6.15.20//NONSGML v1.0//EN
CALSCALE:GREGORIAN
METHOD:PUBLISH
X-ORIGINAL-URL:https://altwirt.de
X-WR-CALDESC:Veranstaltungen für Altwirt Piding
REFRESH-INTERVAL;VALUE=DURATION:PT1H
X-Robots-Tag:noindex
X-PUBLISHED-TTL:PT1H
BEGIN:VTIMEZONE
TZID:UTC
BEGIN:STANDARD
TZOFFSETFROM:+0000
TZOFFSETTO:+0000
TZNAME:UTC
DTSTART:20230101T000000
END:STANDARD
END:VTIMEZONE
BEGIN:VEVENT
DTSTART;TZID=UTC:20240602T110000
DTEND;TZID=UTC:20240602T120000
DTSTAMP:20260422T013407
CREATED:20240522T123615Z
LAST-MODIFIED:20240522T123615Z
UID:938-1717326000-1717329600@altwirt.de
SUMMARY:Traditioneller Dorfritt der historischen Reitergruppe Piding e.V.
DESCRIPTION:Die Historische Reitergruppe Piding e.V. begeht am Sonntag 2. Juni ihr 55-jähriges Bestehen mit traditionellem Dorfritt (ab 11:00 Uhr) \nDie Historische Reitergruppe Piding hat sich der Pflege der Teilnahme an Wallfahrtsritten in der Umgebung verschrieben. Die Mitglieder der Gruppe sind bekannt für das Tragen der traditionellen Pidinger Tracht und die aufwendig geschmückten Pferde\, die sie bei verschiedenen Veranstaltungen präsentieren. Der Ritt führt ab 11:00 Uhr von der Lattenbergstraße über die Berchtesgadener Straße\, Salzburger Straße und Thomastraße zur Kirche. Dort hält unser Pfarrer Ionel Anghel\, der auch mitreitet\, eine Andacht und segnet Ross und Reiter. Anschließend geht der Ritt eine zweite Runde und zurück zum Ausgangspunkt. Am Kirchenplatz steht für Zuschauer ein Getränkeverkauf bereit.
URL:https://altwirt.de/veranstaltung/traditioneller-dorfritt-der-historischen-reitergruppe-piding-e-v-2024-06-02/
LOCATION:Gemeinde Piding\, Petersplatz\, 83451 Piding\, Bayern\, 83451\, Deutschland
CATEGORIES:Brauchtum
ATTACH;FMTTYPE=image/jpeg:https://altwirt.de/wp-content/uploads/512f93a7-2db2-4775-9db6-cc9ebe663b23.jpg
END:VEVENT
BEGIN:VEVENT
DTSTART;TZID=UTC:20240602T170000
DTEND;TZID=UTC:20240602T200000
DTSTAMP:20260422T013407
CREATED:20240522T122003Z
LAST-MODIFIED:20240522T122003Z
UID:935-1717347600-1717358400@altwirt.de
SUMMARY:Musikalischer Dämmerschoppen mit dem Pechling Trio
DESCRIPTION:Am 02.06.2024 spielt das Pechling Trio im Rahmen der musikalischen Dämmerschoppen im Altwirt Piding. Eintritt ist frei!
URL:https://altwirt.de/veranstaltung/musikalischer-daemmerschoppen-mit-dem-pechling-trio-2024-06-02/
LOCATION:Altwirt Piding\, Berchtesgadener Straße 6\, Piding\, Bayern\, 83451\, Deutschland
CATEGORIES:Musikalischer Dämmerschoppen
ATTACH;FMTTYPE=image/jpeg:https://altwirt.de/wp-content/uploads/Pechling-Trio.jpg
END:VEVENT
BEGIN:VEVENT
DTSTART;TZID=UTC:20240609T170000
DTEND;TZID=UTC:20240609T200000
DTSTAMP:20260422T013407
CREATED:20240612T212828Z
LAST-MODIFIED:20240612T213006Z
UID:1017-1717952400-1717963200@altwirt.de
SUMMARY:Musikalischer Dämmerschoppen mit der Hoizwegmusi
DESCRIPTION:Am 09.06.2024 spielt die Hoizwegmusi im Rahmen der musikalischen Dämmerschoppen im Altwirt Piding. Eintritt ist frei! Wir freuen uns auf Euer Kommen!
URL:https://altwirt.de/veranstaltung/musikalischer-daemmerschoppen-mit-der-hoizwegmusi-2024-06-09/
LOCATION:Altwirt Piding\, Berchtesgadener Straße 6\, Piding\, Bayern\, 83451\, Deutschland
CATEGORIES:Musikalischer Dämmerschoppen
ATTACH;FMTTYPE=image/jpeg:https://altwirt.de/wp-content/uploads/Hoizweg_Musi_neu.jpg
END:VEVENT
BEGIN:VEVENT
DTSTART;TZID=UTC:20240616T170000
DTEND;TZID=UTC:20240616T200000
DTSTAMP:20260422T013407
CREATED:20240612T213346Z
LAST-MODIFIED:20240612T213839Z
UID:1022-1718557200-1718568000@altwirt.de
SUMMARY:Musikalischer Dämmerschoppen mit der Frisch-Auf-Musi
DESCRIPTION:Am 16.06.2024 spielt die Frisch-Auf-Musi im Rahmen der musikalischen Dämmerschoppen im Altwirt Piding. Eintritt ist frei! Wir freuen uns auf Euer Kommen!
URL:https://altwirt.de/veranstaltung/musikalischer-daemmerschoppen-mit-der-frisch-auf-musi-2024-06-16/
LOCATION:Altwirt Piding\, Berchtesgadener Straße 6\, Piding\, Bayern\, 83451\, Deutschland
CATEGORIES:Musikalischer Dämmerschoppen
ATTACH;FMTTYPE=image/jpeg:https://altwirt.de/wp-content/uploads/Frisch-auf-Musi-NEU.jpg
END:VEVENT
BEGIN:VEVENT
DTSTART;TZID=UTC:20240623T170000
DTEND;TZID=UTC:20240623T200000
DTSTAMP:20260422T013407
CREATED:20240612T213800Z
LAST-MODIFIED:20240612T213800Z
UID:1026-1719162000-1719172800@altwirt.de
SUMMARY:Musikalischer Dämmerschoppen mit Peter Kurzmeier und Freunden
DESCRIPTION:Am 23.06.2024 spielen Peter Kurzmeier und Freunde im Rahmen der musikalischen Dämmerschoppen im Altwirt Piding. Eintritt ist frei! Wir freuen uns auf Euer Kommen!
URL:https://altwirt.de/veranstaltung/musikalischer-daemmerschoppen-mit-peter-kurzmeier-und-freunden-2024-06-23/
LOCATION:Altwirt Piding\, Berchtesgadener Straße 6\, Piding\, Bayern\, 83451\, Deutschland
CATEGORIES:Musikalischer Dämmerschoppen
ATTACH;FMTTYPE=image/jpeg:https://altwirt.de/wp-content/uploads/Musik-Kurzmeier-scaled.jpg
END:VEVENT
BEGIN:VEVENT
DTSTART;TZID=UTC:20240630T170000
DTEND;TZID=UTC:20240630T200000
DTSTAMP:20260422T013407
CREATED:20240612T214214Z
LAST-MODIFIED:20240612T214436Z
UID:1030-1719766800-1719777600@altwirt.de
SUMMARY:Musikalischer Dämmerschoppen mit der Bockstoamusi
DESCRIPTION:Am 30.06.2024 spielt die Bockstoamusi im Rahmen der musikalischen Dämmerschoppen im Altwirt Piding. Eintritt ist frei! Wir freuen uns auf Euer Kommen!
URL:https://altwirt.de/veranstaltung/musikalischer-daemmerschoppen-mit-der-bockstoamusi-2024-06-30/
LOCATION:Altwirt Piding\, Berchtesgadener Straße 6\, Piding\, Bayern\, 83451\, Deutschland
CATEGORIES:Musikalischer Dämmerschoppen
ATTACH;FMTTYPE=image/jpeg:https://altwirt.de/wp-content/uploads/Bockstoamusi-2-scaled.jpg
END:VEVENT
END:VCALENDAR