BEGIN:VCALENDAR
VERSION:2.0
PRODID:-//Altwirt Piding - ECPv6.15.20//NONSGML v1.0//EN
CALSCALE:GREGORIAN
METHOD:PUBLISH
X-WR-CALNAME:Altwirt Piding
X-ORIGINAL-URL:https://altwirt.de
X-WR-CALDESC:Veranstaltungen für Altwirt Piding
REFRESH-INTERVAL;VALUE=DURATION:PT1H
X-Robots-Tag:noindex
X-PUBLISHED-TTL:PT1H
BEGIN:VTIMEZONE
TZID:UTC
BEGIN:STANDARD
TZOFFSETFROM:+0000
TZOFFSETTO:+0000
TZNAME:UTC
DTSTART:20230101T000000
END:STANDARD
END:VTIMEZONE
BEGIN:VEVENT
DTSTART;TZID=UTC:20240407T170000
DTEND;TZID=UTC:20240407T200000
DTSTAMP:20260422T045933
CREATED:20240315T175554Z
LAST-MODIFIED:20240315T175554Z
UID:817-1712509200-1712520000@altwirt.de
SUMMARY:Musikalischer Dämmerschoppen mit der Altwirtsmusi
DESCRIPTION:Am 07.04.2024 spielt die Altwirtsmusi im Rahmen der musikalischen Dämmerschoppen im Altwirt Piding. Eintritt ist frei!
URL:https://altwirt.de/veranstaltung/musikalischer-daemmerschoppen-mit-der-altwirtsmusi-2024-04-07/
LOCATION:Altwirt Piding\, Berchtesgadener Straße 6\, Piding\, Bayern\, 83451\, Deutschland
CATEGORIES:Musikalischer Dämmerschoppen
ATTACH;FMTTYPE=image/jpeg:https://altwirt.de/wp-content/uploads/Altwirtsmusi-3-scaled.jpg
END:VEVENT
BEGIN:VEVENT
DTSTART;TZID=UTC:20240414T170000
DTEND;TZID=UTC:20240414T200000
DTSTAMP:20260422T045933
CREATED:20240315T175817Z
LAST-MODIFIED:20240315T175817Z
UID:820-1713114000-1713124800@altwirt.de
SUMMARY:Musikalischer Dämmerschoppen mit der Goldtropfmusi
DESCRIPTION:Am 14.04.2024 spielt die Goldtropfmusi im Rahmen der musikalischen Dämmerschoppen im Altwirt Piding. Eintritt ist frei!
URL:https://altwirt.de/veranstaltung/musikalischer-daemmerschoppen-mit-der-goldtropfmusi-2024-04-14/
LOCATION:Altwirt Piding\, Berchtesgadener Straße 6\, Piding\, Bayern\, 83451\, Deutschland
CATEGORIES:Musikalischer Dämmerschoppen
ATTACH;FMTTYPE=image/jpeg:https://altwirt.de/wp-content/uploads/Goldtropfmusi-scaled.jpg
END:VEVENT
BEGIN:VEVENT
DTSTART;TZID=UTC:20240421T170000
DTEND;TZID=UTC:20240421T200000
DTSTAMP:20260422T045933
CREATED:20240318T205408Z
LAST-MODIFIED:20240325T233215Z
UID:823-1713718800-1713729600@altwirt.de
SUMMARY:Musikalischer Dämmerschoppen mit den Aufhamer Musikanten
DESCRIPTION:Am 21.04.2024 spielen die Aufhamer Musikanten im Rahmen der musikalischen Dämmerschoppen im Altwirt Piding. Eintritt ist frei!
URL:https://altwirt.de/veranstaltung/musikalischer-daemmerschoppen-mit-den-aufhamer-musikanten-2024-04-21/
LOCATION:Altwirt Piding\, Berchtesgadener Straße 6\, Piding\, Bayern\, 83451\, Deutschland
CATEGORIES:Musikalischer Dämmerschoppen
ATTACH;FMTTYPE=image/jpeg:https://altwirt.de/wp-content/uploads/Aufhamer_Musikanten_-scaled.jpg
END:VEVENT
BEGIN:VEVENT
DTSTART;TZID=UTC:20240428T170000
DTEND;TZID=UTC:20240428T200000
DTSTAMP:20260422T045933
CREATED:20240318T205500Z
LAST-MODIFIED:20240318T205936Z
UID:826-1714323600-1714334400@altwirt.de
SUMMARY:Musikalischer Dämmerschoppen mit der Thalbergmusi
DESCRIPTION:Am 28.04.2024 spielt die Thalbergmusi im Rahmen der musikalischen Dämmerschoppen im Altwirt Piding. Eintritt ist frei!
URL:https://altwirt.de/veranstaltung/musikalischer-daemmerschoppen-mit-der-thalbergmusi-2024-04-28/
LOCATION:Altwirt Piding\, Berchtesgadener Straße 6\, Piding\, Bayern\, 83451\, Deutschland
CATEGORIES:Musikalischer Dämmerschoppen
ATTACH;FMTTYPE=image/jpeg:https://altwirt.de/wp-content/uploads/Talbergmusi-3-scaled.jpg
END:VEVENT
END:VCALENDAR