BEGIN:VCALENDAR
VERSION:2.0
PRODID:-//Altwirt Piding - ECPv6.15.20//NONSGML v1.0//EN
CALSCALE:GREGORIAN
METHOD:PUBLISH
X-ORIGINAL-URL:https://altwirt.de
X-WR-CALDESC:Veranstaltungen für Altwirt Piding
REFRESH-INTERVAL;VALUE=DURATION:PT1H
X-Robots-Tag:noindex
X-PUBLISHED-TTL:PT1H
BEGIN:VTIMEZONE
TZID:UTC
BEGIN:STANDARD
TZOFFSETFROM:+0000
TZOFFSETTO:+0000
TZNAME:UTC
DTSTART:20230101T000000
END:STANDARD
END:VTIMEZONE
BEGIN:VEVENT
DTSTART;TZID=UTC:20240303T170000
DTEND;TZID=UTC:20240303T200000
DTSTAMP:20260422T063915
CREATED:20240315T174135Z
LAST-MODIFIED:20240315T174135Z
UID:806-1709485200-1709496000@altwirt.de
SUMMARY:Musikalischer Dämmerschoppen mit Peter Kurzmeier
DESCRIPTION:Am 10.03.2024 spielt Peter Kurzmeier im Rahmen der musikalischen Dämmerschoppen im Altwirt Piding. Eintritt ist frei!
URL:https://altwirt.de/veranstaltung/musikalischer-daemmerschoppen-mit-peter-kurzmeier-2024-03-03/
LOCATION:Altwirt Piding\, Berchtesgadener Straße 6\, Piding\, Bayern\, 83451\, Deutschland
CATEGORIES:Musikalischer Dämmerschoppen
ATTACH;FMTTYPE=image/jpeg:https://altwirt.de/wp-content/uploads/Musik-Kurzmeier-scaled.jpg
END:VEVENT
BEGIN:VEVENT
DTSTART;TZID=UTC:20240309T193000
DTEND;TZID=UTC:20240309T230000
DTSTAMP:20260422T063915
CREATED:20240117T161015Z
LAST-MODIFIED:20240117T161015Z
UID:792-1710012600-1710025200@altwirt.de
SUMMARY:Traditionelles Frühjahrssingen
DESCRIPTION:Traditionelles Frühjahrssingen: Das alljährliche Sänger- und Musikantentreffen beim Altwirt findet am 9. März 2024 um 19:30 Uhr statt.
URL:https://altwirt.de/veranstaltung/traditionelles-fruehjahrssingen/
LOCATION:Altwirt Piding\, Berchtesgadener Straße 6\, Piding\, Bayern\, 83451\, Deutschland
ATTACH;FMTTYPE=image/webp:https://altwirt.de/wp-content/uploads/Fruehjahrssingen.webp
ORGANIZER;CN="Tourismusb%C3%BCro Piding":MAILTO:tourismus@piding.de
END:VEVENT
BEGIN:VEVENT
DTSTART;TZID=UTC:20240310T170000
DTEND;TZID=UTC:20240310T200000
DTSTAMP:20260422T063915
CREATED:20240315T173614Z
LAST-MODIFIED:20240315T173704Z
UID:802-1710090000-1710100800@altwirt.de
SUMMARY:Musikalischer Dämmerschoppen mit der Veteranermusi
DESCRIPTION:Am 10.03.2024 spielt die Veteranermusi im Rahmen der musikalischen Dämmerschoppen im Altwirt Piding. Eintritt ist frei!
URL:https://altwirt.de/veranstaltung/musikalischer-daemmerschoppen-mit-der-veteranermusi-2024-03-10/
LOCATION:Altwirt Piding\, Berchtesgadener Straße 6\, Piding\, Bayern\, 83451\, Deutschland
CATEGORIES:Musikalischer Dämmerschoppen
ATTACH;FMTTYPE=image/jpeg:https://altwirt.de/wp-content/uploads/Veteranermusi-3-scaled.jpg
END:VEVENT
BEGIN:VEVENT
DTSTART;TZID=UTC:20240317T170000
DTEND;TZID=UTC:20240317T200000
DTSTAMP:20260422T063915
CREATED:20240315T174734Z
LAST-MODIFIED:20240315T174734Z
UID:812-1710694800-1710705600@altwirt.de
SUMMARY:Musikalischer Dämmerschoppen mit den Wagner Musikanten
DESCRIPTION:Am 17.03.2024 spielen die Wagner Musikanten im Rahmen der musikalischen Dämmerschoppen im Altwirt Piding. Eintritt ist frei!
URL:https://altwirt.de/veranstaltung/musikalischer-daemmerschoppen-mit-den-wagner-musikanten-2024-03-17/
LOCATION:Altwirt Piding\, Berchtesgadener Straße 6\, Piding\, Bayern\, 83451\, Deutschland
CATEGORIES:Musikalischer Dämmerschoppen
ATTACH;FMTTYPE=image/jpeg:https://altwirt.de/wp-content/uploads/Andreas_Wagner.jpg
END:VEVENT
BEGIN:VEVENT
DTSTART;TZID=UTC:20240324T170000
DTEND;TZID=UTC:20240324T200000
DTSTAMP:20260422T063915
CREATED:20240315T174421Z
LAST-MODIFIED:20240315T174421Z
UID:809-1711299600-1711310400@altwirt.de
SUMMARY:Musikalischer Dämmerschoppen mit der Goldtropfmusi
DESCRIPTION:Am 24.03.2024 spielt die Goldtropfmusi im Rahmen der musikalischen Dämmerschoppen im Altwirt Piding. Eintritt ist frei!
URL:https://altwirt.de/veranstaltung/musikalischer-daemmerschoppen-mit-der-goldtropfmusi-2024-03-24/
LOCATION:Altwirt Piding\, Berchtesgadener Straße 6\, Piding\, Bayern\, 83451\, Deutschland
CATEGORIES:Musikalischer Dämmerschoppen
ATTACH;FMTTYPE=image/jpeg:https://altwirt.de/wp-content/uploads/Goldtropfmusi_Altwirt_Piding.jpg
END:VEVENT
BEGIN:VEVENT
DTSTART;TZID=UTC:20240331T170000
DTEND;TZID=UTC:20240331T200000
DTSTAMP:20260422T063915
CREATED:20240315T175042Z
LAST-MODIFIED:20240315T175206Z
UID:815-1711904400-1711915200@altwirt.de
SUMMARY:Musikalischer Dämmerschoppen mit Peter Streibl
DESCRIPTION:Am 31.03.2024 spielt Peter Streibl im Rahmen der musikalischen Dämmerschoppen im Altwirt Piding. Eintritt ist frei!
URL:https://altwirt.de/veranstaltung/musikalischer-daemmerschoppen-mit-peter-streibl/
LOCATION:Altwirt Piding\, Berchtesgadener Straße 6\, Piding\, Bayern\, 83451\, Deutschland
CATEGORIES:Musikalischer Dämmerschoppen
END:VEVENT
END:VCALENDAR